{
 "extent": {
  "ymin": 1845851.8128776103,
  "xmin": 6666233.6820914447,
  "ymax": 2031623.8128776103,
  "xmax": 6842241.6820914447,
  "spatialReference": {
   "latestWkid": 2226,
   "wkid": 102642
  }
 },
 "blockWidth": 128,
 "mosaicOperator": "First",
 "serviceSourceType": "esriImageServiceSourceTypeDataset",
 "hasMultidimensions": false,
 "maxImageWidth": 15000,
 "meanValues": [
  113.71144966563375
 ],
 "hasColormap": false,
 "compressionType": "LZ77",
 "defaultCompressionQuality": 75,
 "maxValues": [
  811.95819091796875
 ],
 "hasHistograms": true,
 "datasetFormat": "SDR",
 "maxImageHeight": 4100,
 "sortField": "",
 "bandNames": [
  "Band_1"
 ],
 "spatialReference": {
  "latestWkid": 2226,
  "wkid": 102642
 },
 "fullExtent": {
  "ymin": 1845851.8128776103,
  "xmin": 6666233.6820914447,
  "ymax": 2031623.8128776103,
  "xmax": 6842241.6820914447,
  "spatialReference": {
   "latestWkid": 2226,
   "wkid": 102642
  }
 },
 "bandCount": 1,
 "rasterFunctionInfos": [
  {
   "help": "",
   "name": "None",
   "description": ""
  }
 ],
 "supportsStatistics": false,
 "sortableFields": "",
 "minValues": [
  -410.72787475585938
 ],
 "allowRasterFunction": true,
 "allowComputeTiePoints": false,
 "serviceDataType": "esriImageServiceDataTypeGeneric",
 "supportsAdvancedQueries": false,
 "currentVersion": 12.1,
 "sortValue": null,
 "objectIdField": "",
 "blockHeight": 128,
 "initialExtent": {
  "ymin": 1845851.8128776103,
  "xmin": 6666233.6820914447,
  "ymax": 2031623.8128776103,
  "xmax": 6842241.6820914447,
  "spatialReference": {
   "latestWkid": 2226,
   "wkid": 102642
  }
 },
 "pixelSizeX": 2,
 "pixelSizeY": 2,
 "defaultMosaicMethod": "Center",
 "name": "Elevation/SAC_DEM2007_2FT",
 "allowedMosaicMethods": "",
 "fields": [],
 "allowAnalysis": true,
 "hasRasterAttributeTable": false,
 "useStandardizedQueries": false,
 "description": "",
 "pixelType": "F32",
 "meanPixelSize": 0.60960121920243848,
 "exportTilesAllowed": false,
 "editFieldsInfo": null,
 "rasterTypeInfos": [
  {
   "help": "",
   "name": "Raster Dataset",
   "description": "Supports all ArcGIS Raster Datasets"
  }
 ],
 "defaultResamplingMethod": "Bilinear",
 "itemAccess": false,
 "minScale": 0,
 "serviceProperties": "Center<\/MosaicMethod>First<\/MosaicOperator>true<\/SortAscending><\/LockImageID><\/TileOrderField>0<\/TileOrderBase>0.000000<\/AvgImageSpacingX>0.000000<\/AvgImageSpacingY>0.0<\/ViewPointX>0.0<\/ViewPointY>0.0<\/ViewPointDefShiftX>0.0<\/ViewPointDefShiftY>None<\/CompressionMethod>75<\/CompressionQuality>0.010000<\/CompressionTolerance>Bilinear<\/SamplingMethod><\/ImageServiceProperties><\/ImageServer>",
 "advancedQueryCapabilities": {
  "supportsStatistics": false,
  "supportsSqlExpression": false,
  "supportsOrderBy": false,
  "useStandardizedQueries": false,
  "supportsPagination": false,
  "supportsDistinct": false
 },
 "capabilities": "Image,Metadata,Mensuration",
 "maxScale": 0,
 "stdvValues": [
  97.921600140944463
 ],
 "allowedFields": "",
 "minPixelSize": 0,
 "sortAscending": true,
 "inspectionCapabilities": "",
 "maxPixelSize": 0,
 "allowedCompressions": "None,JPEG,LZ77,LERC",
 "uncompressedSize": 32697358176,
 "serviceDescription": "Elevation/SAC_DEM2007_2FT",
 "allowCopy": true,
 "copyrightText": "",
 "mensurationCapabilities": "Basic",
 "ownershipBasedAccessControlForRasters": null
}
